BEGIN:VCALENDAR
VERSION:2.0
PRODID:-//Coalition for Construction Safety - ECPv6.15.19//NONSGML v1.0//EN
CALSCALE:GREGORIAN
METHOD:PUBLISH
X-WR-CALNAME:Coalition for Construction Safety
X-ORIGINAL-URL:https://ccs-safety.org
X-WR-CALDESC:Events for Coalition for Construction Safety
REFRESH-INTERVAL;VALUE=DURATION:PT1H
X-Robots-Tag:noindex
X-PUBLISHED-TTL:PT1H
BEGIN:VTIMEZONE
TZID:America/Indiana/Indianapolis
BEGIN:DAYLIGHT
TZOFFSETFROM:-0500
TZOFFSETTO:-0400
TZNAME:EDT
DTSTART:20220313T070000
END:DAYLIGHT
BEGIN:STANDARD
TZOFFSETFROM:-0400
TZOFFSETTO:-0500
TZNAME:EST
DTSTART:20221106T060000
END:STANDARD
BEGIN:DAYLIGHT
TZOFFSETFROM:-0500
TZOFFSETTO:-0400
TZNAME:EDT
DTSTART:20230312T070000
END:DAYLIGHT
BEGIN:STANDARD
TZOFFSETFROM:-0400
TZOFFSETTO:-0500
TZNAME:EST
DTSTART:20231105T060000
END:STANDARD
BEGIN:DAYLIGHT
TZOFFSETFROM:-0500
TZOFFSETTO:-0400
TZNAME:EDT
DTSTART:20240310T070000
END:DAYLIGHT
BEGIN:STANDARD
TZOFFSETFROM:-0400
TZOFFSETTO:-0500
TZNAME:EST
DTSTART:20241103T060000
END:STANDARD
END:VTIMEZONE
BEGIN:VEVENT
DTSTART;TZID=America/Indiana/Indianapolis:20231025T080000
DTEND;TZID=America/Indiana/Indianapolis:20231025T093000
DTSTAMP:20260423T000733
CREATED:20231009T162827Z
LAST-MODIFIED:20231009T163025Z
UID:4170-1698220800-1698226200@ccs-safety.org
SUMMARY:2023 October CCS Safety Directors Forum
DESCRIPTION:Winter Work in Construction\nAs winter approaches\, construction professionals face unique challenges when working on job sites in cold and harsh weather conditions. To ensure safety\, efficiency\, and project success\, it is essential to be well-prepared with the right knowledge and equipment. Join us on October 25 for our CCS Safety Directors Forum where representatives from TAG Industrial & Safety and Protective Industrial Products (PIP) will discuss “Winter Work in Construction.” \nKey Discussion Topics: \n\nCold Weather Safety: Learn about the risks associated with winter construction and the safety measures that must be taken to protect workers from cold-related illnesses and accidents.\nWinter Gear and Apparel: Discover the essential clothing and gear required to keep construction workers warm\, dry\, and comfortable during the coldest months of the year.\nHeating Solutions: Explore various heating options for construction sites.\nRegulatory Compliance: Stay up-to-date with regulations and guidelines related to winter construction work\, ensuring that your projects remain in compliance with safety standards.\n\nBy attending this event\, you will gain valuable insights into the best practices\, safety protocols\, and products needed to thrive in winter construction. Whether you’re a seasoned construction veteran or new to cold weather work\, this event will equip you with the knowledge and resources to tackle winter challenges head-on and keep your projects on track. \nThe CCS Safety Directors’ Forum is a great way to connect with your peers in the construction and contractor maintenance industry. Everyone is welcome so please join CCS on October 25 at 8:00 a.m. at the CCS Office\, 6510 Telecom Dr.\, Suite 200\, Indianapolis\, IN 46278 or via Zoom for this hybrid event. Please click on the link below to register. \nCLICK HERE TO REGISTER
URL:https://ccs-safety.org/event/2023-october-ccs-safety-directors-forum/
END:VEVENT
END:VCALENDAR