BEGIN:VCALENDAR
VERSION:2.0
PRODID:-//Coalition for Construction Safety - ECPv6.15.19//NONSGML v1.0//EN
CALSCALE:GREGORIAN
METHOD:PUBLISH
X-WR-CALNAME:Coalition for Construction Safety
X-ORIGINAL-URL:https://ccs-safety.org
X-WR-CALDESC:Events for Coalition for Construction Safety
REFRESH-INTERVAL;VALUE=DURATION:PT1H
X-Robots-Tag:noindex
X-PUBLISHED-TTL:PT1H
BEGIN:VTIMEZONE
TZID:America/Indiana/Indianapolis
BEGIN:DAYLIGHT
TZOFFSETFROM:-0500
TZOFFSETTO:-0400
TZNAME:EDT
DTSTART:20220313T070000
END:DAYLIGHT
BEGIN:STANDARD
TZOFFSETFROM:-0400
TZOFFSETTO:-0500
TZNAME:EST
DTSTART:20221106T060000
END:STANDARD
BEGIN:DAYLIGHT
TZOFFSETFROM:-0500
TZOFFSETTO:-0400
TZNAME:EDT
DTSTART:20230312T070000
END:DAYLIGHT
BEGIN:STANDARD
TZOFFSETFROM:-0400
TZOFFSETTO:-0500
TZNAME:EST
DTSTART:20231105T060000
END:STANDARD
BEGIN:DAYLIGHT
TZOFFSETFROM:-0500
TZOFFSETTO:-0400
TZNAME:EDT
DTSTART:20240310T070000
END:DAYLIGHT
BEGIN:STANDARD
TZOFFSETFROM:-0400
TZOFFSETTO:-0500
TZNAME:EST
DTSTART:20241103T060000
END:STANDARD
END:VTIMEZONE
BEGIN:VEVENT
DTSTART;TZID=America/Indiana/Indianapolis:20230125T080000
DTEND;TZID=America/Indiana/Indianapolis:20230125T093000
DTSTAMP:20260424T125353
CREATED:20230110T223054Z
LAST-MODIFIED:20230110T223516Z
UID:3494-1674633600-1674639000@ccs-safety.org
SUMMARY:January CCS Safety Directors Forum
DESCRIPTION:Join CCS for its Safety Directors Forum on Wednesday\, January 25 where the focus will be on the CCS Certification Renewal\, Audit Process and the CCS Substance Abuse Program. In addition\, CCS Programs Director\, Heather Martin will provide an overview of updating your annual stats and answer any questions regarding the CCS Programs. Don’t miss this informative presentation! \nCEUs will be available for this session. \nThe CCS Safety Directors’ Forum is a great way to network and share ideas with your peers in the construction and facilities maintenance industry. You don’t have to be a safety director to attend. Everyone is welcome\, so please join CCS on January 25th from 8:00 a.m. – 9:30 a.m. ET for this FREE hybrid event. If you plan to attend virtually information on joining the meeting will be emailed to you upon registration. If you are attending in-person\, please note our new address\, 6510 Telecom Dr.\, Suite 200\, Indianapolis 46278. \nCLICK HERE TO REGISTER
URL:https://ccs-safety.org/event/january-ccs-safety-directors-forum-2/
LOCATION:CCS Office Training Room\, 6510 Telecom Dr.\, Suite 200\, Indianapolis\, 46278
END:VEVENT
END:VCALENDAR