BEGIN:VCALENDAR
VERSION:2.0
PRODID:-//Coalition for Construction Safety - ECPv6.15.19//NONSGML v1.0//EN
CALSCALE:GREGORIAN
METHOD:PUBLISH
X-ORIGINAL-URL:https://ccs-safety.org
X-WR-CALDESC:Events for Coalition for Construction Safety
REFRESH-INTERVAL;VALUE=DURATION:PT1H
X-Robots-Tag:noindex
X-PUBLISHED-TTL:PT1H
BEGIN:VTIMEZONE
TZID:America/Indiana/Indianapolis
BEGIN:DAYLIGHT
TZOFFSETFROM:-0500
TZOFFSETTO:-0400
TZNAME:EDT
DTSTART:20210314T070000
END:DAYLIGHT
BEGIN:STANDARD
TZOFFSETFROM:-0400
TZOFFSETTO:-0500
TZNAME:EST
DTSTART:20211107T060000
END:STANDARD
BEGIN:DAYLIGHT
TZOFFSETFROM:-0500
TZOFFSETTO:-0400
TZNAME:EDT
DTSTART:20220313T070000
END:DAYLIGHT
BEGIN:STANDARD
TZOFFSETFROM:-0400
TZOFFSETTO:-0500
TZNAME:EST
DTSTART:20221106T060000
END:STANDARD
BEGIN:DAYLIGHT
TZOFFSETFROM:-0500
TZOFFSETTO:-0400
TZNAME:EDT
DTSTART:20230312T070000
END:DAYLIGHT
BEGIN:STANDARD
TZOFFSETFROM:-0400
TZOFFSETTO:-0500
TZNAME:EST
DTSTART:20231105T060000
END:STANDARD
END:VTIMEZONE
BEGIN:VEVENT
DTSTART;TZID=America/Indiana/Indianapolis:20221130T080000
DTEND;TZID=America/Indiana/Indianapolis:20221130T110000
DTSTAMP:20260424T201900
CREATED:20221108T154500Z
LAST-MODIFIED:20221128T151506Z
UID:3450-1669795200-1669806000@ccs-safety.org
SUMMARY:CCS Roundtable: Jobsite Security - Protecting Your Project from the Unexpected
DESCRIPTION:Join CCS for its Roundtable on November 30 to hear from a panel of experts who will discuss how they handle jobsite security. This includes general liability insurance\, stolen equipment\, multiple contractors on site\, civilians entering jobsites and more. Thomas White with Timber Walk will be presenting on best practices and hot topics as they relate to jobsite security. \nThis event will be a hybrid event where you can attend in-person or virtually. Virtual attendees will receive a Grubhub voucher to purchase breakfast while enjoying the event. In-person attendees will enjoy breakfast\, have the opportunity to network with their peers\, and be eligible for a door prize. \nPresentation Provided by: Thomas White with Timber Walk \nPanelists \n\nSean Devenney\, Partner – DSV\nGreg Musi\, Corporate Safety Director – Wiegand Construction\nEd Mourninghan\, Vice President/Principal – MJ Insurance\nModerator: Marcy Watson\, Executive Director – CCS\n\nCEUS will be available for this event. \nThe CCS Roundtable will be held Wednesday\, November 30 from 8:00 a.m. – 11:00 a.m. EST at MJ Insurance\, 571 Monon Trail\, Suite 400\, Carmel\, IN 46032. Register today! \nCLICK HERE TO REGISTER\nView SPonsorship Opportunity
URL:https://ccs-safety.org/event/ccs-roundtable-maintaining-safe-practices-amidst-the-challenges-of-2022-2/
LOCATION:IN\, United States
END:VEVENT
END:VCALENDAR