BEGIN:VCALENDAR
VERSION:2.0
PRODID:-//Coalition for Construction Safety - ECPv6.15.19//NONSGML v1.0//EN
CALSCALE:GREGORIAN
METHOD:PUBLISH
X-ORIGINAL-URL:https://ccs-safety.org
X-WR-CALDESC:Events for Coalition for Construction Safety
REFRESH-INTERVAL;VALUE=DURATION:PT1H
X-Robots-Tag:noindex
X-PUBLISHED-TTL:PT1H
BEGIN:VTIMEZONE
TZID:America/Indiana/Indianapolis
BEGIN:DAYLIGHT
TZOFFSETFROM:-0500
TZOFFSETTO:-0400
TZNAME:EDT
DTSTART:20230312T070000
END:DAYLIGHT
BEGIN:STANDARD
TZOFFSETFROM:-0400
TZOFFSETTO:-0500
TZNAME:EST
DTSTART:20231105T060000
END:STANDARD
BEGIN:DAYLIGHT
TZOFFSETFROM:-0500
TZOFFSETTO:-0400
TZNAME:EDT
DTSTART:20240310T070000
END:DAYLIGHT
BEGIN:STANDARD
TZOFFSETFROM:-0400
TZOFFSETTO:-0500
TZNAME:EST
DTSTART:20241103T060000
END:STANDARD
BEGIN:DAYLIGHT
TZOFFSETFROM:-0500
TZOFFSETTO:-0400
TZNAME:EDT
DTSTART:20250309T070000
END:DAYLIGHT
BEGIN:STANDARD
TZOFFSETFROM:-0400
TZOFFSETTO:-0500
TZNAME:EST
DTSTART:20251102T060000
END:STANDARD
END:VTIMEZONE
BEGIN:VEVENT
DTSTART;TZID=America/Indiana/Indianapolis:20240327T080000
DTEND;TZID=America/Indiana/Indianapolis:20240327T093000
DTSTAMP:20260422T182614
CREATED:20240222T193336Z
LAST-MODIFIED:20240327T134608Z
UID:4432-1711526400-1711531800@ccs-safety.org
SUMMARY:CCS March Safety Directors Forum - OSHA Reporting
DESCRIPTION:Join CCS for its Safety Directors Forum on Wednesday\, March 27 where Michael Gordon with INSafe will discuss the new electronic reporting process of injuries and illnesses to OSHA. He will also provide a refresher on the guidelines when reporting injuries. The recently published 2022 OSHA data will also be discussed. \nThe CCS Safety Directors’ Forum is a great way to connect with your peers in the construction and contractor maintenance industry. Everyone is welcome so please join CCS on March 27 at 8:00 a.m. ET at the CCS Office\, 6510 Telecom Dr.\, Suite 200\, Indianapolis\, IN 46278 or via Zoom for this hybrid event. Please click on the link below to register. \nREGISTER
URL:https://ccs-safety.org/event/ccs-march-safety-directors-forum-osha-reporting/
END:VEVENT
END:VCALENDAR