BEGIN:VCALENDAR
VERSION:2.0
PRODID:-//Coalition for Construction Safety - ECPv6.15.19//NONSGML v1.0//EN
CALSCALE:GREGORIAN
METHOD:PUBLISH
X-WR-CALNAME:Coalition for Construction Safety
X-ORIGINAL-URL:https://ccs-safety.org
X-WR-CALDESC:Events for Coalition for Construction Safety
REFRESH-INTERVAL;VALUE=DURATION:PT1H
X-Robots-Tag:noindex
X-PUBLISHED-TTL:PT1H
BEGIN:VTIMEZONE
TZID:America/Indiana/Indianapolis
BEGIN:DAYLIGHT
TZOFFSETFROM:-0500
TZOFFSETTO:-0400
TZNAME:EDT
DTSTART:20230312T070000
END:DAYLIGHT
BEGIN:STANDARD
TZOFFSETFROM:-0400
TZOFFSETTO:-0500
TZNAME:EST
DTSTART:20231105T060000
END:STANDARD
BEGIN:DAYLIGHT
TZOFFSETFROM:-0500
TZOFFSETTO:-0400
TZNAME:EDT
DTSTART:20240310T070000
END:DAYLIGHT
BEGIN:STANDARD
TZOFFSETFROM:-0400
TZOFFSETTO:-0500
TZNAME:EST
DTSTART:20241103T060000
END:STANDARD
BEGIN:DAYLIGHT
TZOFFSETFROM:-0500
TZOFFSETTO:-0400
TZNAME:EDT
DTSTART:20250309T070000
END:DAYLIGHT
BEGIN:STANDARD
TZOFFSETFROM:-0400
TZOFFSETTO:-0500
TZNAME:EST
DTSTART:20251102T060000
END:STANDARD
END:VTIMEZONE
BEGIN:VEVENT
DTSTART;TZID=America/Indiana/Indianapolis:20240424T080000
DTEND;TZID=America/Indiana/Indianapolis:20240424T093000
DTSTAMP:20260422T151444
CREATED:20240328T170328Z
LAST-MODIFIED:20240405T130224Z
UID:4519-1713945600-1713951000@ccs-safety.org
SUMMARY:April 2024 CCS Safety Directors Forum - Crisis Management
DESCRIPTION:In the dynamic world of construction\, crises can arise unexpectedly\, posing serious threats to both worker safety and project integrity. Join CCS for an insightful Safety Directors Forum dedicated to Crisis Management\, where Matt Herndon and John Contreras with Weigand Construction will share invaluable strategies\, protocols\, and best practices to mitigate risks\, ensure swift response\, and uphold safety standards in times of crisis. \nKey Topics: \n• Understanding Crisis Scenarios\n• Developing a Crisis Response Plan\n• Effective Communication Strategies\n• Implementing Safety Measures\n• Managing Media Relations \nThe CCS Safety Directors’ Forum is a great way to connect with your peers in the construction and contractor maintenance industry. Everyone is welcome so please join CCS on April 24 from 8:00 a.m. – 9:30 a.m. ET at Safety Resources\, Inc.\, 618 N Davidson St\, Indianapolis\, IN 46202 or via Zoom for this hybrid event. Please click on the link below to register. \nREGISTER
URL:https://ccs-safety.org/event/april-2024-ccs-safety-directors-forum-crisis-management/
END:VEVENT
BEGIN:VEVENT
DTSTART;TZID=America/Indiana/Indianapolis:20240425T163000
DTEND;TZID=America/Indiana/Indianapolis:20240425T200000
DTSTAMP:20260422T151444
CREATED:20240222T193525Z
LAST-MODIFIED:20240222T193555Z
UID:4443-1714062600-1714075200@ccs-safety.org
SUMMARY:2024 CCS Awards Celebration
DESCRIPTION:Join CCS for the Construction Safety Event of the Year! \nJoin CCS for its Awards Celebration where we will celebrate the safety achievements in the construction and facilities maintenance industry! This year’s event will be held April 25\, 2024 at the Scottish Rite Cathedral where the evening will culminate with the awarding of the CCS Excellence in Safety Award. The Awards Celebration will be held from 4:30 – 8:00 p.m. and will be a reception with networking and awards presentation. \nCCS has a variety of sponsorship packages for the event that will provide new and creative benefits for sponsor companies. Don’t miss your chance to get your company’s name in front of hundreds of construction safety industry leaders! Learn more about open sponsorship opportunities below. \nBe sure to be a part of the largest gathering of leaders from the construction safety industry! \nDetails \n\nCCS Awards – April 25\, 2024 4:30 p.m. – 8:00 p.m.\nScottish Rite Cathedral\, 650 N. Meridian St.\, Indianapolis\nReception/Awards Program (Cash Bar & Heavy Hors d’oeuvres)\nBusiness Attire\nComplimentary parking on site\n\nSponsorships will be accepted until April 5\, 2024. \nDeadline to be included in event program is April 5\, 2024. \nIf you have questions regarding sponsorship details or availability\, please contact Paige Riley at (317) 686-2665 or by email at paige@ccs-safety.org \nDeadline to register for event tickets is Friday\, April 19 at Noon EDT. Cancellations made after the deadline will not be refunded. Sponsorship packages cannot be refunded. \nLEARN MORE AND REGISTER
URL:https://ccs-safety.org/event/2024-ccs-awards-celebration/
END:VEVENT
END:VCALENDAR